Package: dks Version: 1.56.0 Command: rm -rf dks.buildbin-libdir && mkdir dks.buildbin-libdir && /Users/biocbuild/BBS/utils/build-universal.sh dks_1.56.0.tar.gz /Library/Frameworks/R.framework/Resources/bin/R dks.buildbin-libdir StartedAt: 2025-11-04 01:37:29 -0500 (Tue, 04 Nov 2025) EndedAt: 2025-11-04 01:37:34 -0500 (Tue, 04 Nov 2025) EllapsedTime: 4.6 seconds RetCode: 0 Status: OK PackageFile: dks_1.56.0.tgz PackageFileSize: 620.2 KiB