Package: dks Version: 1.54.0 Command: /Library/Frameworks/R.framework/Resources/bin/R CMD INSTALL dks StartedAt: 2025-09-29 15:12:25 -0400 (Mon, 29 Sep 2025) EndedAt: 2025-09-29 15:12:28 -0400 (Mon, 29 Sep 2025) EllapsedTime: 3.2 seconds RetCode: 0 Status: OK