Package: dittoSeq Version: 1.20.1 Command: /home/biocbuild/bbs-3.21-bioc/R/bin/R CMD check --install=check:dittoSeq.install-out.txt --library=/home/biocbuild/bbs-3.21-bioc/R/site-library --timings dittoSeq_1.20.1.tar.gz StartedAt: 2025-10-15 22:43:08 -0400 (Wed, 15 Oct 2025) EndedAt: 2025-10-15 22:53:08 -0400 (Wed, 15 Oct 2025) EllapsedTime: 600.8 seconds RetCode: 0 Status: OK CheckDir: dittoSeq.Rcheck Warnings: 0