Package: dittoSeq Version: 1.20.0 Command: /Library/Frameworks/R.framework/Resources/bin/R CMD check --install=check:dittoSeq.install-out.txt --library=/Library/Frameworks/R.framework/Resources/library --no-vignettes --timings dittoSeq_1.20.0.tar.gz StartedAt: 2025-04-21 20:22:40 -0400 (Mon, 21 Apr 2025) EndedAt: 2025-04-21 20:30:24 -0400 (Mon, 21 Apr 2025) EllapsedTime: 463.9 seconds RetCode: 0 Status: OK CheckDir: dittoSeq.Rcheck Warnings: 0