Package: dittoSeq Version: 1.20.1 Command: /Library/Frameworks/R.framework/Resources/bin/R CMD check --install=check:dittoSeq.install-out.txt --library=/Library/Frameworks/R.framework/Resources/library --no-vignettes --timings dittoSeq_1.20.1.tar.gz StartedAt: 2025-10-14 19:50:21 -0400 (Tue, 14 Oct 2025) EndedAt: 2025-10-14 20:00:02 -0400 (Tue, 14 Oct 2025) EllapsedTime: 581.2 seconds RetCode: 0 Status: OK CheckDir: dittoSeq.Rcheck Warnings: 0