Package: dir.expiry Version: 1.17.0 Command: F:\biocbuild\bbs-3.22-bioc\R\bin\R.exe CMD check --no-multiarch --install=check:dir.expiry.install-out.txt --library=F:\biocbuild\bbs-3.22-bioc\R\library --no-vignettes --timings dir.expiry_1.17.0.tar.gz StartedAt: 2025-08-15 02:39:50 -0400 (Fri, 15 Aug 2025) EndedAt: 2025-08-15 02:40:16 -0400 (Fri, 15 Aug 2025) EllapsedTime: 26.0 seconds RetCode: 0 Status: OK CheckDir: dir.expiry.Rcheck Warnings: 0