Package: dir.expiry Version: 1.18.0 Command: /home/biocbuild/bbs-3.22-bioc/R/bin/R CMD check --install=check:dir.expiry.install-out.txt --library=/home/biocbuild/bbs-3.22-bioc/R/site-library --timings dir.expiry_1.18.0.tar.gz StartedAt: 2025-11-06 23:01:25 -0500 (Thu, 06 Nov 2025) EndedAt: 2025-11-06 23:01:43 -0500 (Thu, 06 Nov 2025) EllapsedTime: 18.0 seconds RetCode: 0 Status: OK CheckDir: dir.expiry.Rcheck Warnings: 0