Package: dir.expiry Version: 1.18.0 Command: /Library/Frameworks/R.framework/Resources/bin/R CMD INSTALL dir.expiry StartedAt: 2025-11-06 15:01:27 -0500 (Thu, 06 Nov 2025) EndedAt: 2025-11-06 15:01:32 -0500 (Thu, 06 Nov 2025) EllapsedTime: 4.1 seconds RetCode: 0 Status: OK