Package: dir.expiry Version: 1.18.0 Command: /Library/Frameworks/R.framework/Resources/bin/R CMD check --install=check:dir.expiry.install-out.txt --library=/Library/Frameworks/R.framework/Resources/library --no-vignettes --timings dir.expiry_1.18.0.tar.gz StartedAt: 2025-11-09 19:32:10 -0500 (Sun, 09 Nov 2025) EndedAt: 2025-11-09 19:32:21 -0500 (Sun, 09 Nov 2025) EllapsedTime: 11.1 seconds RetCode: 0 Status: OK CheckDir: dir.expiry.Rcheck Warnings: 0