Package: dir.expiry Version: 1.18.0 Command: /Library/Frameworks/R.framework/Resources/bin/R CMD build --keep-empty-dirs --no-resave-data dir.expiry StartedAt: 2025-11-17 20:43:23 -0500 (Mon, 17 Nov 2025) EndedAt: 2025-11-17 20:43:26 -0500 (Mon, 17 Nov 2025) EllapsedTime: 3.0 seconds RetCode: 0 Status: OK PackageFile: dir.expiry_1.18.0.tar.gz PackageFileSize: 301.1 KiB