Package: dir.expiry Version: 1.18.0 Command: rm -rf dir.expiry.buildbin-libdir && mkdir dir.expiry.buildbin-libdir && /Users/biocbuild/BBS/utils/build-universal.sh dir.expiry_1.18.0.tar.gz /Library/Frameworks/R.framework/Resources/bin/R dir.expiry.buildbin-libdir StartedAt: 2025-11-18 15:27:34 -0500 (Tue, 18 Nov 2025) EndedAt: 2025-11-18 15:27:36 -0500 (Tue, 18 Nov 2025) EllapsedTime: 2.0 seconds RetCode: 0 Status: OK PackageFile: dir.expiry_1.18.0.tgz PackageFileSize: 315.3 KiB