Package: dinoR Version: 1.4.0 Command: /home/biocbuild/bbs-3.21-bioc/R/bin/R CMD INSTALL dinoR StartedAt: 2025-10-15 15:20:03 -0400 (Wed, 15 Oct 2025) EndedAt: 2025-10-15 15:20:30 -0400 (Wed, 15 Oct 2025) EllapsedTime: 27.5 seconds RetCode: 0 Status: OK