Package: dinoR Version: 1.4.0 Command: /home/biocbuild/bbs-3.21-bioc/R/bin/R CMD build --keep-empty-dirs --no-resave-data dinoR StartedAt: 2025-10-15 17:14:15 -0400 (Wed, 15 Oct 2025) EndedAt: 2025-10-15 17:15:23 -0400 (Wed, 15 Oct 2025) EllapsedTime: 68.1 seconds RetCode: 0 Status: OK PackageFile: dinoR_1.4.0.tar.gz PackageFileSize: 3.229 MiB