Package: dinoR Version: 1.4.0 Command: /Library/Frameworks/R.framework/Resources/bin/R CMD INSTALL dinoR StartedAt: 2025-10-13 15:38:34 -0400 (Mon, 13 Oct 2025) EndedAt: 2025-10-13 15:39:34 -0400 (Mon, 13 Oct 2025) EllapsedTime: 60.1 seconds RetCode: 0 Status: OK