Package: dinoR Version: 1.4.0 Command: /Library/Frameworks/R.framework/Resources/bin/R CMD build --keep-empty-dirs --no-resave-data dinoR StartedAt: 2025-10-13 18:39:25 -0400 (Mon, 13 Oct 2025) EndedAt: 2025-10-13 18:42:19 -0400 (Mon, 13 Oct 2025) EllapsedTime: 174.1 seconds RetCode: 0 Status: OK PackageFile: dinoR_1.4.0.tar.gz PackageFileSize: 3.239 MiB