Package: dinoR Version: 1.4.0 Command: rm -rf dinoR.buildbin-libdir && mkdir dinoR.buildbin-libdir && /Users/biocbuild/BBS/utils/build-universal.sh dinoR_1.4.0.tar.gz /Library/Frameworks/R.framework/Resources/bin/R dinoR.buildbin-libdir StartedAt: 2025-04-22 00:42:41 -0400 (Tue, 22 Apr 2025) EndedAt: 2025-04-22 00:43:19 -0400 (Tue, 22 Apr 2025) EllapsedTime: 38.0 seconds RetCode: 0 Status: OK PackageFile: dinoR_1.4.0.tgz PackageFileSize: 3.086 MiB