Package: dinoR Version: 1.4.0 Command: /home/biocbuild/R/R/bin/R CMD INSTALL dinoR StartedAt: 2025-10-13 20:34:18 -0000 (Mon, 13 Oct 2025) EndedAt: 2025-10-13 20:34:57 -0000 (Mon, 13 Oct 2025) EllapsedTime: 39.9 seconds RetCode: 0 Status: OK