Package: dinoR Version: 1.4.0 Command: /home/biocbuild/R/R/bin/R CMD check --install=check:dinoR.install-out.txt --library=/home/biocbuild/R/R/site-library --no-vignettes --timings dinoR_1.4.0.tar.gz StartedAt: 2025-10-14 08:32:36 -0000 (Tue, 14 Oct 2025) EndedAt: 2025-10-14 08:37:43 -0000 (Tue, 14 Oct 2025) EllapsedTime: 306.2 seconds RetCode: 0 Status: OK CheckDir: dinoR.Rcheck Warnings: 0