Package: diggit Version: 1.41.0 Command: /home/biocbuild/R/R/bin/R CMD INSTALL diggit StartedAt: 2025-10-23 20:32:06 -0000 (Thu, 23 Oct 2025) EndedAt: 2025-10-23 20:32:27 -0000 (Thu, 23 Oct 2025) EllapsedTime: 20.4 seconds RetCode: 0 Status: OK