Package: diggit Version: 1.41.0 Command: /home/biocbuild/R/R/bin/R CMD check --install=check:diggit.install-out.txt --library=/home/biocbuild/R/R/site-library --no-vignettes --timings diggit_1.41.0.tar.gz StartedAt: 2025-10-21 07:31:55 -0000 (Tue, 21 Oct 2025) EndedAt: 2025-10-21 07:35:35 -0000 (Tue, 21 Oct 2025) EllapsedTime: 219.1 seconds RetCode: 0 Status: WARNINGS CheckDir: diggit.Rcheck Warnings: 3