Package: diggit Version: 1.40.0 Command: /home/biocbuild/R/R/bin/R CMD INSTALL diggit StartedAt: 2025-10-13 20:25:12 -0000 (Mon, 13 Oct 2025) EndedAt: 2025-10-13 20:25:33 -0000 (Mon, 13 Oct 2025) EllapsedTime: 20.4 seconds RetCode: 0 Status: OK