Package: destiny Version: 3.24.0 Command: /home/biocbuild/R/R/bin/R CMD check --install=check:destiny.install-out.txt --library=/home/biocbuild/R/R/site-library --no-vignettes --timings destiny_3.24.0.tar.gz StartedAt: 2025-11-21 09:57:48 -0000 (Fri, 21 Nov 2025) EndedAt: 2025-11-21 10:03:23 -0000 (Fri, 21 Nov 2025) EllapsedTime: 335.2 seconds RetCode: 0 Status: WARNINGS CheckDir: destiny.Rcheck Warnings: 1