Package: destiny Version: 3.24.0 Command: /home/biocbuild/R/R/bin/R CMD build --keep-empty-dirs --no-resave-data destiny StartedAt: 2025-11-18 01:06:40 -0000 (Tue, 18 Nov 2025) EndedAt: 2025-11-18 01:15:31 -0000 (Tue, 18 Nov 2025) EllapsedTime: 531.2 seconds RetCode: 0 Status: OK PackageFile: destiny_3.24.0.tar.gz PackageFileSize: 658.9 KiB