Package: destiny Version: 3.23.0 Command: chmod a+r destiny -R && F:\biocbuild\bbs-3.22-bioc\R\bin\R.exe CMD build --keep-empty-dirs --no-resave-data destiny StartedAt: 2025-08-14 19:41:00 -0400 (Thu, 14 Aug 2025) EndedAt: 2025-08-14 19:51:03 -0400 (Thu, 14 Aug 2025) EllapsedTime: 603.3 seconds RetCode: 0 Status: OK PackageFile: destiny_3.23.0.tar.gz PackageFileSize: 602.5 KiB