Package: destiny Version: 3.22.0 Command: E:\biocbuild\bbs-3.21-bioc\R\bin\R.exe CMD INSTALL destiny StartedAt: 2025-08-14 16:11:35 -0400 (Thu, 14 Aug 2025) EndedAt: 2025-08-14 16:13:20 -0400 (Thu, 14 Aug 2025) EllapsedTime: 105.2 seconds RetCode: 0 Status: OK