Package: destiny Version: 3.22.0 Command: rm -rf destiny.buildbin-libdir && mkdir destiny.buildbin-libdir && E:\biocbuild\bbs-3.21-bioc\R\bin\R.exe CMD INSTALL --build --library=destiny.buildbin-libdir destiny_3.22.0.tar.gz StartedAt: 2025-08-15 09:10:03 -0400 (Fri, 15 Aug 2025) EndedAt: 2025-08-15 09:11:54 -0400 (Fri, 15 Aug 2025) EllapsedTime: 111.0 seconds RetCode: 0 Status: OK PackageFile: destiny_3.22.0.zip PackageFileSize: 1.769 MiB