Package: destiny Version: 3.22.0 Command: /home/biocbuild/bbs-3.21-bioc/R/bin/R CMD INSTALL destiny StartedAt: 2025-10-15 15:19:58 -0400 (Wed, 15 Oct 2025) EndedAt: 2025-10-15 15:20:48 -0400 (Wed, 15 Oct 2025) EllapsedTime: 49.9 seconds RetCode: 0 Status: OK