Package: destiny Version: 3.22.0 Command: /home/biocbuild/bbs-3.21-bioc/R/bin/R CMD check --install=check:destiny.install-out.txt --library=/home/biocbuild/bbs-3.21-bioc/R/site-library --timings destiny_3.22.0.tar.gz StartedAt: 2025-10-15 22:36:05 -0400 (Wed, 15 Oct 2025) EndedAt: 2025-10-15 22:46:56 -0400 (Wed, 15 Oct 2025) EllapsedTime: 650.8 seconds RetCode: 1 Status: ERROR CheckDir: destiny.Rcheck Warnings: NA