Package: derfinderPlot Version: 1.43.1 Command: chmod a+r derfinderPlot -R && F:\biocbuild\bbs-3.22-bioc\R\bin\R.exe CMD build --keep-empty-dirs --no-resave-data derfinderPlot StartedAt: 2025-08-14 19:40:32 -0400 (Thu, 14 Aug 2025) EndedAt: 2025-08-14 19:45:27 -0400 (Thu, 14 Aug 2025) EllapsedTime: 294.4 seconds RetCode: 0 Status: OK PackageFile: derfinderPlot_1.43.1.tar.gz PackageFileSize: 912 KiB