Package: derfinderHelper Version: 1.43.0 Command: /home/biocbuild/R/R/bin/R CMD INSTALL derfinderHelper StartedAt: 2025-10-23 20:33:17 -0000 (Thu, 23 Oct 2025) EndedAt: 2025-10-23 20:33:33 -0000 (Thu, 23 Oct 2025) EllapsedTime: 16.6 seconds RetCode: 0 Status: OK