Package: derfinderHelper Version: 1.43.0 Command: /home/biocbuild/R/R/bin/R CMD check --install=check:derfinderHelper.install-out.txt --library=/home/biocbuild/R/R/site-library --no-vignettes --timings derfinderHelper_1.43.0.tar.gz StartedAt: 2025-10-21 07:24:32 -0000 (Tue, 21 Oct 2025) EndedAt: 2025-10-21 07:26:30 -0000 (Tue, 21 Oct 2025) EllapsedTime: 118.2 seconds RetCode: 0 Status: OK CheckDir: derfinderHelper.Rcheck Warnings: 0