Package: derfinderHelper Version: 1.44.0 Command: /home/biocbuild/bbs-3.22-bioc/R/bin/R CMD check --install=check:derfinderHelper.install-out.txt --library=/home/biocbuild/bbs-3.22-bioc/R/site-library --timings derfinderHelper_1.44.0.tar.gz StartedAt: 2025-11-09 23:06:16 -0500 (Sun, 09 Nov 2025) EndedAt: 2025-11-09 23:07:44 -0500 (Sun, 09 Nov 2025) EllapsedTime: 88.1 seconds RetCode: 0 Status: OK CheckDir: derfinderHelper.Rcheck Warnings: 0