Package: derfinder Version: 1.42.0 Command: chmod a+r derfinder -R && E:\biocbuild\bbs-3.21-bioc\R\bin\R.exe CMD build --keep-empty-dirs --no-resave-data derfinder StartedAt: 2025-08-14 18:34:42 -0400 (Thu, 14 Aug 2025) EndedAt: 2025-08-14 18:42:46 -0400 (Thu, 14 Aug 2025) EllapsedTime: 484.4 seconds RetCode: 0 Status: OK PackageFile: derfinder_1.42.0.tar.gz PackageFileSize: 1.074 MiB