Package: derfinder Version: 1.42.0 Command: rm -rf derfinder.buildbin-libdir && mkdir derfinder.buildbin-libdir && E:\biocbuild\bbs-3.21-bioc\R\bin\R.exe CMD INSTALL --build --library=derfinder.buildbin-libdir derfinder_1.42.0.tar.gz StartedAt: 2025-08-15 09:09:44 -0400 (Fri, 15 Aug 2025) EndedAt: 2025-08-15 09:10:50 -0400 (Fri, 15 Aug 2025) EllapsedTime: 66.1 seconds RetCode: 0 Status: OK PackageFile: derfinder_1.42.0.zip PackageFileSize: 1.304 MiB