Package: derfinder Version: 1.42.0 Command: /Library/Frameworks/R.framework/Resources/bin/R CMD check --install=check:derfinder.install-out.txt --library=/Library/Frameworks/R.framework/Resources/library --no-vignettes --timings derfinder_1.42.0.tar.gz StartedAt: 2025-10-14 02:45:43 -0400 (Tue, 14 Oct 2025) EndedAt: 2025-10-14 03:09:12 -0400 (Tue, 14 Oct 2025) EllapsedTime: 1408.5 seconds RetCode: 0 Status: OK CheckDir: derfinder.Rcheck Warnings: 0