Package: derfinder Version: 1.42.0 Command: /Library/Frameworks/R.framework/Resources/bin/R CMD build --keep-empty-dirs --no-resave-data derfinder StartedAt: 2025-10-13 18:34:05 -0400 (Mon, 13 Oct 2025) EndedAt: 2025-10-13 18:46:14 -0400 (Mon, 13 Oct 2025) EllapsedTime: 728.7 seconds RetCode: 0 Status: OK PackageFile: derfinder_1.42.0.tar.gz PackageFileSize: 2.012 MiB