Package: derfinder Version: 1.42.0 Command: rm -rf derfinder.buildbin-libdir && mkdir derfinder.buildbin-libdir && /Users/biocbuild/BBS/utils/build-universal.sh derfinder_1.42.0.tar.gz /Library/Frameworks/R.framework/Resources/bin/R derfinder.buildbin-libdir StartedAt: 2025-10-14 13:15:14 -0400 (Tue, 14 Oct 2025) EndedAt: 2025-10-14 13:17:59 -0400 (Tue, 14 Oct 2025) EllapsedTime: 164.9 seconds RetCode: 0 Status: OK PackageFile: derfinder_1.42.0.tgz PackageFileSize: 2.213 MiB