Package: derfinder Version: 1.42.0 Command: /Library/Frameworks/R.framework/Resources/bin/R CMD build --keep-empty-dirs --no-resave-data derfinder StartedAt: 2025-04-21 16:09:47 -0400 (Mon, 21 Apr 2025) EndedAt: 2025-04-21 16:11:44 -0400 (Mon, 21 Apr 2025) EllapsedTime: 117.3 seconds RetCode: 0 Status: OK PackageFile: derfinder_1.42.0.tar.gz PackageFileSize: 2.011 MiB