Package: densvis Version: 1.19.0 Command: F:\biocbuild\bbs-3.22-bioc\R\bin\R.exe CMD check --no-multiarch --install=check:densvis.install-out.txt --library=F:\biocbuild\bbs-3.22-bioc\R\library --no-vignettes --timings densvis_1.19.0.tar.gz StartedAt: 2025-08-15 02:29:26 -0400 (Fri, 15 Aug 2025) EndedAt: 2025-08-15 02:36:44 -0400 (Fri, 15 Aug 2025) EllapsedTime: 438.0 seconds RetCode: 0 Status: OK CheckDir: densvis.Rcheck Warnings: 0