Package: densvis Version: 1.20.1 Command: /home/biocbuild/bbs-3.22-bioc/R/bin/R CMD INSTALL densvis StartedAt: 2025-11-06 15:10:51 -0500 (Thu, 06 Nov 2025) EndedAt: 2025-11-06 15:11:16 -0500 (Thu, 06 Nov 2025) EllapsedTime: 24.9 seconds RetCode: 0 Status: OK