Package: demuxmix Version: 1.11.0 Command: chmod a+r demuxmix -R && F:\biocbuild\bbs-3.22-bioc\R\bin\R.exe CMD build --keep-empty-dirs --no-resave-data demuxmix StartedAt: 2025-08-14 19:38:50 -0400 (Thu, 14 Aug 2025) EndedAt: 2025-08-14 19:39:46 -0400 (Thu, 14 Aug 2025) EllapsedTime: 56.0 seconds RetCode: 0 Status: OK PackageFile: demuxmix_1.11.0.tar.gz PackageFileSize: 700.8 KiB