Package: demuxmix Version: 1.11.0 Command: rm -rf demuxmix.buildbin-libdir && mkdir demuxmix.buildbin-libdir && F:\biocbuild\bbs-3.22-bioc\R\bin\R.exe CMD INSTALL --build --library=demuxmix.buildbin-libdir demuxmix_1.11.0.tar.gz StartedAt: 2025-08-15 10:08:08 -0400 (Fri, 15 Aug 2025) EndedAt: 2025-08-15 10:08:36 -0400 (Fri, 15 Aug 2025) EllapsedTime: 28.3 seconds RetCode: 0 Status: OK PackageFile: demuxmix_1.11.0.zip PackageFileSize: 1.006 MiB