Package: demuxmix Version: 1.12.0 Command: /home/biocbuild/bbs-3.22-bioc/R/bin/R CMD INSTALL demuxmix StartedAt: 2025-11-06 15:07:20 -0500 (Thu, 06 Nov 2025) EndedAt: 2025-11-06 15:07:37 -0500 (Thu, 06 Nov 2025) EllapsedTime: 16.6 seconds RetCode: 0 Status: OK