Package: demuxmix Version: 1.12.0 Command: /home/biocbuild/bbs-3.22-bioc/R/bin/R CMD build --keep-empty-dirs --no-resave-data --md5 demuxmix StartedAt: 2025-11-06 17:16:21 -0500 (Thu, 06 Nov 2025) EndedAt: 2025-11-06 17:16:59 -0500 (Thu, 06 Nov 2025) EllapsedTime: 38.0 seconds RetCode: 0 Status: OK PackageFile: demuxmix_1.12.0.tar.gz PackageFileSize: 1.437 MiB