Package: demuxSNP Version: 1.8.0 Command: /home/biocbuild/R/R/bin/R CMD check --install=check:demuxSNP.install-out.txt --library=/home/biocbuild/R/R/site-library --no-vignettes --timings demuxSNP_1.8.0.tar.gz StartedAt: 2025-11-14 08:45:08 -0000 (Fri, 14 Nov 2025) EndedAt: 2025-11-14 08:56:33 -0000 (Fri, 14 Nov 2025) EllapsedTime: 684.6 seconds RetCode: 0 Status: OK CheckDir: demuxSNP.Rcheck Warnings: 0