Package: demuxSNP Version: 1.8.0 Command: /home/biocbuild/R/R/bin/R CMD build --keep-empty-dirs --no-resave-data demuxSNP StartedAt: 2025-11-14 01:12:41 -0000 (Fri, 14 Nov 2025) EndedAt: 2025-11-14 01:15:52 -0000 (Fri, 14 Nov 2025) EllapsedTime: 191.1 seconds RetCode: 0 Status: OK PackageFile: demuxSNP_1.8.0.tar.gz PackageFileSize: 1.725 MiB