Package: deepSNV Version: 1.55.0 Command: /home/biocbuild/R/R/bin/R CMD check --install=check:deepSNV.install-out.txt --library=/home/biocbuild/R/R/site-library --no-vignettes --timings deepSNV_1.55.0.tar.gz StartedAt: 2025-10-21 07:15:04 -0000 (Tue, 21 Oct 2025) EndedAt: 2025-10-21 07:21:35 -0000 (Tue, 21 Oct 2025) EllapsedTime: 391.2 seconds RetCode: 0 Status: OK CheckDir: deepSNV.Rcheck Warnings: 0