Package: deepSNV Version: 1.55.0 Command: F:\biocbuild\bbs-3.22-bioc\R\bin\R.exe CMD check --no-multiarch --install=check:deepSNV.install-out.txt --library=F:\biocbuild\bbs-3.22-bioc\R\library --no-vignettes --timings deepSNV_1.55.0.tar.gz StartedAt: 2025-08-15 02:22:14 -0400 (Fri, 15 Aug 2025) EndedAt: 2025-08-15 02:30:32 -0400 (Fri, 15 Aug 2025) EllapsedTime: 498.0 seconds RetCode: 0 Status: OK CheckDir: deepSNV.Rcheck Warnings: 0