Package: deepSNV Version: 1.55.0 Command: chmod a+r deepSNV -R && F:\biocbuild\bbs-3.22-bioc\R\bin\R.exe CMD build --keep-empty-dirs --no-resave-data deepSNV StartedAt: 2025-08-14 19:34:46 -0400 (Thu, 14 Aug 2025) EndedAt: 2025-08-14 19:37:06 -0400 (Thu, 14 Aug 2025) EllapsedTime: 139.9 seconds RetCode: 0 Status: OK PackageFile: deepSNV_1.55.0.tar.gz PackageFileSize: 2.322 MiB