Package: deepSNV Version: 1.56.0 Command: /home/biocbuild/bbs-3.22-bioc/R/bin/R CMD INSTALL deepSNV StartedAt: 2025-11-06 15:40:13 -0500 (Thu, 06 Nov 2025) EndedAt: 2025-11-06 15:40:58 -0500 (Thu, 06 Nov 2025) EllapsedTime: 44.5 seconds RetCode: 0 Status: OK